BEGIN:VCALENDAR
VERSION:2.0
PRODID:-//Corps der Bürgersöhne von 1814 e.V. Peine - ECPv6.15.20//NONSGML v1.0//EN
CALSCALE:GREGORIAN
METHOD:PUBLISH
X-WR-CALNAME:Corps der Bürgersöhne von 1814 e.V. Peine
X-ORIGINAL-URL:https://www.cdb-peine.de
X-WR-CALDESC:Veranstaltungen für Corps der Bürgersöhne von 1814 e.V. Peine
REFRESH-INTERVAL;VALUE=DURATION:PT1H
X-Robots-Tag:noindex
X-PUBLISHED-TTL:PT1H
BEGIN:VTIMEZONE
TZID:Europe/Berlin
BEGIN:DAYLIGHT
TZOFFSETFROM:+0100
TZOFFSETTO:+0200
TZNAME:CEST
DTSTART:20250330T010000
END:DAYLIGHT
BEGIN:STANDARD
TZOFFSETFROM:+0200
TZOFFSETTO:+0100
TZNAME:CET
DTSTART:20251026T010000
END:STANDARD
BEGIN:DAYLIGHT
TZOFFSETFROM:+0100
TZOFFSETTO:+0200
TZNAME:CEST
DTSTART:20260329T010000
END:DAYLIGHT
BEGIN:STANDARD
TZOFFSETFROM:+0200
TZOFFSETTO:+0100
TZNAME:CET
DTSTART:20261025T010000
END:STANDARD
BEGIN:DAYLIGHT
TZOFFSETFROM:+0100
TZOFFSETTO:+0200
TZNAME:CEST
DTSTART:20270328T010000
END:DAYLIGHT
BEGIN:STANDARD
TZOFFSETFROM:+0200
TZOFFSETTO:+0100
TZNAME:CET
DTSTART:20271031T010000
END:STANDARD
BEGIN:DAYLIGHT
TZOFFSETFROM:+0100
TZOFFSETTO:+0200
TZNAME:CEST
DTSTART:20280326T010000
END:DAYLIGHT
BEGIN:STANDARD
TZOFFSETFROM:+0200
TZOFFSETTO:+0100
TZNAME:CET
DTSTART:20281029T010000
END:STANDARD
END:VTIMEZONE
BEGIN:VEVENT
DTSTART;TZID=Europe/Berlin:20260509T200000
DTEND;TZID=Europe/Berlin:20260509T200000
DTSTAMP:20260425T184628
CREATED:20220425T195054Z
LAST-MODIFIED:20251006T195828Z
UID:1032210-1778356800-1778356800@www.cdb-peine.de
SUMMARY:Clubraum Party
DESCRIPTION:
URL:https://www.cdb-peine.de/veranstaltung/cdb-clubraum-party/
LOCATION:Clubraum des Junggesellenzeltes\, Kantstraße 2\, Peine\, 31224
END:VEVENT
BEGIN:VEVENT
DTSTART;VALUE=DATE:20260510
DTEND;VALUE=DATE:20260511
DTSTAMP:20260425T184628
CREATED:20231126T105930Z
LAST-MODIFIED:20251006T195809Z
UID:1032479-1778371200-1778457599@www.cdb-peine.de
SUMMARY:Muttertagskonzert
DESCRIPTION:
URL:https://www.cdb-peine.de/veranstaltung/muttertagskonzert/
END:VEVENT
BEGIN:VEVENT
DTSTART;TZID=Europe/Berlin:20260514T100000
DTEND;TZID=Europe/Berlin:20260514T180000
DTSTAMP:20260425T184628
CREATED:20190313T220748Z
LAST-MODIFIED:20251006T195842Z
UID:1031720-1778752800-1778781600@www.cdb-peine.de
SUMMARY:Anlaufstelle an Himmelfahrt
DESCRIPTION:Auch in diesem Jahr wird es wieder eine Anlaufstelle vor unseren Heiligen Hallen geben. Bei ein paar gekühlten Bierchen und Bratwurst können sich hungrige und durstige Radfahrer stärken. Also kommt vorbei und sagt auch Euren Freunden\, Bekannten und Verwandten Bescheid.
URL:https://www.cdb-peine.de/veranstaltung/anlaufstelle-an-himmelfahrt/
LOCATION:Am Junggesellenzelt\, Kantstraße 2\, Peine\, 31224
END:VEVENT
BEGIN:VEVENT
DTSTART;TZID=Europe/Berlin:20260530T190000
DTEND;TZID=Europe/Berlin:20260530T190000
DTSTAMP:20260425T184628
CREATED:20190313T220748Z
LAST-MODIFIED:20251006T195509Z
UID:1031718-1780167600-1780167600@www.cdb-peine.de
SUMMARY:Versammlung der Passiven Abteilung
DESCRIPTION:
URL:https://www.cdb-peine.de/veranstaltung/versammlung-der-passiven-abteilung/
LOCATION:Junggesellenzelt\, Kantstraße 2\, Peine\, 31224
END:VEVENT
BEGIN:VEVENT
DTSTART;TZID=Europe/Berlin:20260621T110000
DTEND;TZID=Europe/Berlin:20260621T160000
DTSTAMP:20260425T184628
CREATED:20190313T220748Z
LAST-MODIFIED:20260414T102323Z
UID:1031722-1782039600-1782057600@www.cdb-peine.de
SUMMARY:Sundernschießen mit Familientag
DESCRIPTION:An diesem Tag findet das traditionelle Sundernschießen mit Familientag – zusammen mit dem TSV Bildung – auf dem Sundern-Schießstand statt.\nHierzu seid ihr mit Familienmitgliedern und Freunden herzlich eingeladen.\nEs gibt Einzelwertungen für Damen und Herren sowie ein Er & Sie-Schießen.\nMeldeschluss ist um 15 Uhr. Die Gewinner erhalten tolle Preise.\nFür das leibliche Wohl ist gesorgt. Und für unsere kleinen Gäste wird es eine Hüpfburg geben. Auch der TSV Bildung wird mit seiner Spieletonne für Spaß sorgen.
URL:https://www.cdb-peine.de/veranstaltung/sundern-pokal-schiessen/
LOCATION:Schießstand am Sundern\, Peine\, 31224
END:VEVENT
BEGIN:VEVENT
DTSTART;TZID=Europe/Berlin:20260622T193000
DTEND;TZID=Europe/Berlin:20260622T193000
DTSTAMP:20260425T184628
CREATED:20190617T151005Z
LAST-MODIFIED:20251006T195903Z
UID:1031829-1782156600-1782156600@www.cdb-peine.de
SUMMARY:1. Übungsmarsch
DESCRIPTION:
URL:https://www.cdb-peine.de/veranstaltung/1-uebungsmarsch/
LOCATION:Spiegelbergstraße
END:VEVENT
BEGIN:VEVENT
DTSTART;TZID=Europe/Berlin:20260625T193000
DTEND;TZID=Europe/Berlin:20260625T193000
DTSTAMP:20260425T184628
CREATED:20190617T151046Z
LAST-MODIFIED:20251006T195910Z
UID:1031832-1782415800-1782415800@www.cdb-peine.de
SUMMARY:2. Übungsmarsch
DESCRIPTION:
URL:https://www.cdb-peine.de/veranstaltung/2-uebungsmarsch/
LOCATION:Eichendorffschule
END:VEVENT
BEGIN:VEVENT
DTSTART;TZID=Europe/Berlin:20260628T123000
DTEND;TZID=Europe/Berlin:20260628T123000
DTSTAMP:20260425T184628
CREATED:20190313T220748Z
LAST-MODIFIED:20251202T102429Z
UID:1031723-1782649800-1782649800@www.cdb-peine.de
SUMMARY:Königsschießen
DESCRIPTION:Treffpunkt zum Abmarsch zum Sundern-Schießstand ist vor dem Junggesellenzelt. Es können hierbei wieder Marschbefehle\, Pins\, Fliegen\, etc. gekauft werden!
URL:https://www.cdb-peine.de/veranstaltung/koenigsschiessen/
LOCATION:Am Junggesellenzelt\, Kantstraße 2\, Peine\, 31224
END:VEVENT
BEGIN:VEVENT
DTSTART;TZID=Europe/Berlin:20260629T193000
DTEND;TZID=Europe/Berlin:20260629T193000
DTSTAMP:20260425T184628
CREATED:20190617T151124Z
LAST-MODIFIED:20251006T195923Z
UID:1031834-1782761400-1782761400@www.cdb-peine.de
SUMMARY:3. Übungsmarsch
DESCRIPTION:
URL:https://www.cdb-peine.de/veranstaltung/3-uebungsmarsch/
LOCATION:Carl-v.-Ossietzky-Platz
END:VEVENT
BEGIN:VEVENT
DTSTART;TZID=Europe/Berlin:20260702T203000
DTEND;TZID=Europe/Berlin:20260702T203000
DTSTAMP:20260425T184628
CREATED:20190617T151151Z
LAST-MODIFIED:20260116T092953Z
UID:1031836-1783024200-1783024200@www.cdb-peine.de
SUMMARY:4. Übungsmarsch
DESCRIPTION:
URL:https://www.cdb-peine.de/veranstaltung/4-uebungsmarsch/
LOCATION:Am Junggesellenzelt\, Kantstraße 2\, Peine\, 31224
END:VEVENT
BEGIN:VEVENT
DTSTART;VALUE=DATE:20260703
DTEND;VALUE=DATE:20260708
DTSTAMP:20260425T184628
CREATED:20190313T220748Z
LAST-MODIFIED:20251006T200022Z
UID:1031724-1783036800-1783468799@www.cdb-peine.de
SUMMARY:Peiner Freischießen
DESCRIPTION:
URL:https://www.cdb-peine.de/veranstaltung/peiner-freischiessen/
END:VEVENT
BEGIN:VEVENT
DTSTART;TZID=Europe/Berlin:20260705T200000
DTEND;TZID=Europe/Berlin:20260705T200000
DTSTAMP:20260425T184628
CREATED:20190806T200210Z
LAST-MODIFIED:20251006T200031Z
UID:1031864-1783281600-1783281600@www.cdb-peine.de
SUMMARY:1. Ballabend an Freischießen
DESCRIPTION:
URL:https://www.cdb-peine.de/veranstaltung/1-ballabend-an-freischiessen/
LOCATION:Junggesellenzelt\, Kantstraße 2\, Peine\, 31224
END:VEVENT
BEGIN:VEVENT
DTSTART;TZID=Europe/Berlin:20260706T200000
DTEND;TZID=Europe/Berlin:20260706T200000
DTSTAMP:20260425T184628
CREATED:20190806T200302Z
LAST-MODIFIED:20251006T200038Z
UID:1031866-1783368000-1783368000@www.cdb-peine.de
SUMMARY:2. Ballabend an Freischießen
DESCRIPTION:
URL:https://www.cdb-peine.de/veranstaltung/2-ballabend-an-freischiessen/
LOCATION:Junggesellenzelt\, Kantstraße 2\, Peine\, 31224
END:VEVENT
BEGIN:VEVENT
DTSTART;TZID=Europe/Berlin:20260707T230000
DTEND;TZID=Europe/Berlin:20260707T230000
DTSTAMP:20260425T184628
CREATED:20190617T151947Z
LAST-MODIFIED:20251006T200047Z
UID:1031840-1783465200-1783465200@www.cdb-peine.de
SUMMARY:Freischießen Absch(l)ussparty
DESCRIPTION:Dienstagabend wird es wieder statt einem Ball eine Party im Junggesellenzelt geben\, wozu Corps-Mitglieder und Freunde herzlich eingeladen sind.
URL:https://www.cdb-peine.de/veranstaltung/freischiessen-abschlussparty/
LOCATION:Junggesellenzelt\, Kantstraße 2\, Peine\, 31224
END:VEVENT
BEGIN:VEVENT
DTSTART;TZID=Europe/Berlin:20260919T200000
DTEND;TZID=Europe/Berlin:20260919T200000
DTSTAMP:20260425T184628
CREATED:20220905T205605Z
LAST-MODIFIED:20251202T103254Z
UID:1032280-1789848000-1789848000@www.cdb-peine.de
SUMMARY:Königsball des Bürgerkönigs (SGi/BJC)
DESCRIPTION:
URL:https://www.cdb-peine.de/veranstaltung/koenigsball-des-buergerkoenigs-nbc/
LOCATION:Saal des Bürger-Jäger-Corps\, Beethovenstraße 6\, Peine\, 31224\, Deutschland
END:VEVENT
BEGIN:VEVENT
DTSTART;TZID=Europe/Berlin:20260926T200000
DTEND;TZID=Europe/Berlin:20260926T200000
DTSTAMP:20260425T184628
CREATED:20190313T220749Z
LAST-MODIFIED:20251202T102537Z
UID:1031727-1790452800-1790452800@www.cdb-peine.de
SUMMARY:Königsball des CdB
DESCRIPTION:
URL:https://www.cdb-peine.de/veranstaltung/koenigsball-september/
LOCATION:Junggesellenzelt\, Kantstraße 2\, Peine\, 31224
END:VEVENT
BEGIN:VEVENT
DTSTART;TZID=Europe/Berlin:20260927T140000
DTEND;TZID=Europe/Berlin:20260927T170000
DTSTAMP:20260425T184628
CREATED:20190313T220749Z
LAST-MODIFIED:20251202T102856Z
UID:1031729-1790517600-1790528400@www.cdb-peine.de
SUMMARY:Schafferschießen des CdB
DESCRIPTION:Das Schießen beginnt um 14 Uhr und endet um 17 Uhr. Meldeschluss ist um 16 Uhr.\nDie feierliche Übergabe der Scheiben findet beim Braunkohlessen statt.
URL:https://www.cdb-peine.de/veranstaltung/schafferschiessen-des-cdb/
LOCATION:Schießstand des TSV Bildung\, Schäferstraße 33\, Peine\, 31224
END:VEVENT
BEGIN:VEVENT
DTSTART;TZID=Europe/Berlin:20261010T110000
DTEND;TZID=Europe/Berlin:20261010T110000
DTSTAMP:20260425T184628
CREATED:20231126T110342Z
LAST-MODIFIED:20260309T201626Z
UID:1032486-1791630000-1791630000@www.cdb-peine.de
SUMMARY:Stadtrallye
DESCRIPTION:
URL:https://www.cdb-peine.de/veranstaltung/wandertag/
LOCATION:Am Junggesellenzelt\, Kantstraße 2\, Peine\, 31224
END:VEVENT
BEGIN:VEVENT
DTSTART;TZID=Europe/Berlin:20261010T200000
DTEND;TZID=Europe/Berlin:20261010T200000
DTSTAMP:20260425T184628
CREATED:20220905T205422Z
LAST-MODIFIED:20251202T103230Z
UID:1032274-1791662400-1791662400@www.cdb-peine.de
SUMMARY:Königsball des Peiner Walzwerker Vereins
DESCRIPTION:
URL:https://www.cdb-peine.de/veranstaltung/koenigsball-des-peiner-walzwerker-vereins/
LOCATION:Saal des Bürger-Jäger-Corps\, Beethovenstraße 6\, Peine\, 31224\, Deutschland
END:VEVENT
BEGIN:VEVENT
DTSTART;TZID=Europe/Berlin:20261024T200000
DTEND;TZID=Europe/Berlin:20261024T200000
DTSTAMP:20260425T184628
CREATED:20220905T205457Z
LAST-MODIFIED:20251202T103217Z
UID:1032276-1792872000-1792872000@www.cdb-peine.de
SUMMARY:Königsball des TSV Bildung
DESCRIPTION:
URL:https://www.cdb-peine.de/veranstaltung/koenigsball-des-tsv-bildung/
LOCATION:Saal der Schützengilde\, Kantstraße 1\, Peine\, 31224
END:VEVENT
BEGIN:VEVENT
DTSTART;TZID=Europe/Berlin:20261031T200000
DTEND;TZID=Europe/Berlin:20261031T200000
DTSTAMP:20260425T184628
CREATED:20220905T205533Z
LAST-MODIFIED:20251202T103204Z
UID:1032278-1793476800-1793476800@www.cdb-peine.de
SUMMARY:Königsball des MTV Vater Jahn Peine
DESCRIPTION:
URL:https://www.cdb-peine.de/veranstaltung/koenigsball-des-mtv-vater-jahn-peine/
LOCATION:Saal der Schützengilde\, Kantstraße 1\, Peine\, 31224
END:VEVENT
BEGIN:VEVENT
DTSTART;TZID=Europe/Berlin:20261107T200000
DTEND;TZID=Europe/Berlin:20261107T200000
DTSTAMP:20260425T184628
CREATED:20230805T122743Z
LAST-MODIFIED:20251202T103357Z
UID:1032420-1794081600-1794081600@www.cdb-peine.de
SUMMARY:Martini-Ball / Ball des Bürgerkönigs (NBC)
DESCRIPTION:
URL:https://www.cdb-peine.de/veranstaltung/martini-ball/
LOCATION:Saal der Schützengilde\, Kantstraße 1\, Peine\, 31224
END:VEVENT
BEGIN:VEVENT
DTSTART;TZID=Europe/Berlin:20261108T100000
DTEND;TZID=Europe/Berlin:20261108T170000
DTSTAMP:20260425T184628
CREATED:20211019T181743Z
LAST-MODIFIED:20251202T102947Z
UID:1032119-1794132000-1794157200@www.cdb-peine.de
SUMMARY:Schafferschießen der Korporationen
DESCRIPTION:Von 10 bis 17 Uhr kann am Schießstand der Schützengilde geschossen werden. Meldeschluss ist um 16 Uhr. Das Jugendschafferschießen findet von 10 bis 12 Uhr statt (Siegerehrung um 12:15 Uhr im Collegiumszimmer der Schützengilde). Schießkarten können im Aufenthaltsraum der Schieß-abteilung der Schützengilde erworben werden. Weitere Informationen unter www.peiner-freischiessen.de
URL:https://www.cdb-peine.de/veranstaltung/schafferschiessen-der-korporationen/
LOCATION:Schießstand der Schützengilde\, Kantstraße 1\, Peine\, 31224
END:VEVENT
BEGIN:VEVENT
DTSTART;TZID=Europe/Berlin:20261108T183000
DTEND;TZID=Europe/Berlin:20261108T183000
DTSTAMP:20260425T184628
CREATED:20211019T181851Z
LAST-MODIFIED:20251202T103002Z
UID:1032121-1794162600-1794162600@www.cdb-peine.de
SUMMARY:Bürgerversammlung
DESCRIPTION:Im Saal der Schützengilde wird dieses Jahr die Bürgerversammlung mit Verleihung der Bürgerschafferscheiben abgehalten. Weitere Informationen unter www.peiner-freischiessen.de
URL:https://www.cdb-peine.de/veranstaltung/buergerversammlung/
LOCATION:Saal des Bürger-Jäger-Corps\, Beethovenstraße 6\, Peine\, 31224\, Deutschland
END:VEVENT
BEGIN:VEVENT
DTSTART;TZID=Europe/Berlin:20261114T190000
DTEND;TZID=Europe/Berlin:20261114T190000
DTSTAMP:20260425T184628
CREATED:20190313T220749Z
LAST-MODIFIED:20251202T102933Z
UID:1031732-1794682800-1794682800@www.cdb-peine.de
SUMMARY:Braunkohlessen
DESCRIPTION:
URL:https://www.cdb-peine.de/veranstaltung/braunkohlessen/
LOCATION:Junggesellenzelt\, Kantstraße 2\, Peine\, 31224
END:VEVENT
BEGIN:VEVENT
DTSTART;TZID=Europe/Berlin:20261121T160000
DTEND;TZID=Europe/Berlin:20261121T160000
DTSTAMP:20260425T184628
CREATED:20230805T121403Z
LAST-MODIFIED:20251202T103025Z
UID:1032418-1795276800-1795276800@www.cdb-peine.de
SUMMARY:CdB Beer Pong Turnier
DESCRIPTION:
URL:https://www.cdb-peine.de/veranstaltung/cdb-bier-pong-turnier/
LOCATION:Junggesellenzelt\, Kantstraße 2\, Peine\, 31224
END:VEVENT
BEGIN:VEVENT
DTSTART;TZID=Europe/Berlin:20261121T200000
DTEND;TZID=Europe/Berlin:20261121T200000
DTSTAMP:20260425T184628
CREATED:20220905T205645Z
LAST-MODIFIED:20251202T103116Z
UID:1032282-1795291200-1795291200@www.cdb-peine.de
SUMMARY:Königsball des SV Telgte
DESCRIPTION:
URL:https://www.cdb-peine.de/veranstaltung/koenigsball-des-sv-telgte/
LOCATION:Saal des Bürger-Jäger-Corps\, Beethovenstraße 6\, Peine\, 31224\, Deutschland
END:VEVENT
BEGIN:VEVENT
DTSTART;TZID=Europe/Berlin:20271112T190000
DTEND;TZID=Europe/Berlin:20271112T190000
DTSTAMP:20260425T184628
CREATED:20230401T094838Z
LAST-MODIFIED:20251202T103132Z
UID:1032346-1826046000-1826046000@www.cdb-peine.de
SUMMARY:Martini-Essen
DESCRIPTION:
URL:https://www.cdb-peine.de/veranstaltung/martini-essen/
LOCATION:Saal des Bürger-Jäger-Corps\, Beethovenstraße 6\, Peine\, 31224\, Deutschland
END:VEVENT
END:VCALENDAR